BEGIN:VCALENDAR
VERSION:2.0
PRODID:-//PUtech - ECPv6.5.1.6//NONSGML v1.0//EN
CALSCALE:GREGORIAN
METHOD:PUBLISH
X-ORIGINAL-URL:https://politeknikpu.ac.id
X-WR-CALDESC:Events for PUtech
REFRESH-INTERVAL;VALUE=DURATION:PT1H
X-Robots-Tag:noindex
X-PUBLISHED-TTL:PT1H
BEGIN:VTIMEZONE
TZID:Asia/Krasnoyarsk
BEGIN:STANDARD
TZOFFSETFROM:+0700
TZOFFSETTO:+0700
TZNAME:+07
DTSTART:20260101T000000
END:STANDARD
END:VTIMEZONE
BEGIN:VEVENT
DTSTART;TZID=Asia/Krasnoyarsk:20260401T080000
DTEND;TZID=Asia/Krasnoyarsk:20260503T170000
DTSTAMP:20260422T153625
CREATED:20260325T080728Z
LAST-MODIFIED:20260417T065005Z
UID:22810-1775030400-1777827600@politeknikpu.ac.id
SUMMARY:Pendaftaran PUtechnovation 2026
DESCRIPTION:
URL:https://politeknikpu.ac.id/event/pendaftaran-putechnovation-2026/
LOCATION:Politeknik Pekerjaan Umum\, Jl. Soekarno Hatta No.100\, Semarang\, Jawa Tengah\, 50275\, Indonesia
END:VEVENT
BEGIN:VEVENT
DTSTART;TZID=Asia/Krasnoyarsk:20260421T080000
DTEND;TZID=Asia/Krasnoyarsk:20260501T170000
DTSTAMP:20260422T153625
CREATED:20260421T032749Z
LAST-MODIFIED:20260421T032935Z
UID:23166-1776758400-1777654800@politeknikpu.ac.id
SUMMARY:PUtech Video Challenge 2026
DESCRIPTION:Politeknik Pekerjaan Umum Gelar PUtech Video Challenge 2026 untuk Jaring Kreativitas Mahasiswa\nDalam rangka menyemarakkan periode Penerimaan Mahasiswa Baru (PMB) Tahun Akademik 2026/2027\, Politeknik Pekerjaan Umum (PUtech) resmi meluncurkan kompetisi kreativitas bertajuk “PUtech Video Challenge 2026″. Kegiatan ini bertujuan untuk mengajak seluruh mahasiswa untuk berpartisipasi aktif dalam mengenalkan PUtech kepada masyarakat luas melalui konten digital yang kreatif. \nKegiatan ini berlangsung mulai 21 April hingga 1 Juni 2026\, dilanjutkan dengan proses penilaian pada 2–4 Juni 2026\, dan pengumuman pemenang pada 5 Juni 2026. \nPendaftaran dan informasi panduan lengkap dapat diakses melalui tautan resmi di s.id/LombaVideoPUtech2026 \n#PUtechVideoChallenge dan #PMB_PUtech2026
URL:https://politeknikpu.ac.id/event/putech-video-challenge-2026/
LOCATION:Politeknik Pekerjaan Umum\, Jl. Soekarno Hatta No.100\, Semarang\, Jawa Tengah\, 50275\, Indonesia
END:VEVENT
BEGIN:VEVENT
DTSTART;TZID=Asia/Krasnoyarsk:20260528T080000
DTEND;TZID=Asia/Krasnoyarsk:20260630T170000
DTSTAMP:20260422T153625
CREATED:20260416T083425Z
LAST-MODIFIED:20251216T083517Z
UID:21014-1779955200-1782838800@politeknikpu.ac.id
SUMMARY:Evaluasi Dosen oleh Mahasiswa
DESCRIPTION:
URL:https://politeknikpu.ac.id/event/evaluasi-dosen-oleh-mahasiswa/
LOCATION:Akademik\, Politeknik Pekerjaan Umum
END:VEVENT
BEGIN:VEVENT
DTSTART;TZID=Asia/Krasnoyarsk:20260608T080000
DTEND;TZID=Asia/Krasnoyarsk:20260612T170000
DTSTAMP:20260422T153625
CREATED:20250516T083529Z
LAST-MODIFIED:20251216T083635Z
UID:21016-1780905600-1781283600@politeknikpu.ac.id
SUMMARY:Ujian Akhir Semester (UAS) Genap 2025/2026
DESCRIPTION:
URL:https://politeknikpu.ac.id/event/ujian-akhir-semester-uas-genap-2025-2026/
LOCATION:Akademik\, Politeknik Pekerjaan Umum
END:VEVENT
BEGIN:VEVENT
DTSTART;VALUE=DATE:20260622
DTEND;VALUE=DATE:20260623
DTSTAMP:20260422T153625
CREATED:20250516T083742Z
LAST-MODIFIED:20251216T083822Z
UID:21018-1782086400-1782172799@politeknikpu.ac.id
SUMMARY:Yudisium Program Studi Semester Genap 2025/2026
DESCRIPTION:
URL:https://politeknikpu.ac.id/event/yudisium-program-studi-semester-genap-2025-2026/
LOCATION:Jawa Tengah
END:VEVENT
BEGIN:VEVENT
DTSTART;VALUE=DATE:20260625
DTEND;VALUE=DATE:20260626
DTSTAMP:20260422T153625
CREATED:20250516T083825Z
LAST-MODIFIED:20251216T083904Z
UID:21020-1782345600-1782431999@politeknikpu.ac.id
SUMMARY:Yudisium Politeknik Pekerjaan Umum Semester Genap 2025/2026
DESCRIPTION:
URL:https://politeknikpu.ac.id/event/yudisium-politeknik-pekerjaan-umum-semester-genap-2025-2026/
LOCATION:Akademik\, Politeknik Pekerjaan Umum
END:VEVENT
BEGIN:VEVENT
DTSTART;VALUE=DATE:20260626
DTEND;VALUE=DATE:20260627
DTSTAMP:20260422T153625
CREATED:20250516T083907Z
LAST-MODIFIED:20251216T084159Z
UID:21022-1782432000-1782518399@politeknikpu.ac.id
SUMMARY:Pengumuman Kartu Hasil Studi Semester Genap 2025/2026
DESCRIPTION:
URL:https://politeknikpu.ac.id/event/pengumuman-kartu-hasil-studi-semester-genap-2025-2026/
LOCATION:Akademik\, Politeknik Pekerjaan Umum
END:VEVENT
END:VCALENDAR